BEGIN:VCALENDAR
VERSION:2.0
PRODID:-//Library Market//iCal Export//EN
BEGIN:VEVENT
SUMMARY:Coping After Suicide Loss: A community conversation with SAFE
UID:7117
DTSTAMP:20260425T191300Z
DTSTART:20260728T220000Z
DTEND:20260729T000000Z
LOCATION:300 Beechwood Avenue, Carnegie, PA 15106, United States
ROOM: Lincoln Gallery
DESCRIPTION:This community conversation will provide information, support,
  and connection for individuals who have experienced suicide loss (family,
  friends, neighbors, teachers, providers - anyone affected by suicide loss
 ).Topics will include:Normalizing common feelings, thoughts, and behaviors
  after suicide lossHow to talk about suicide loss with othersSuicide berea
 vement groupsLocal resources and postvention programsRegistration is app
 reciated, but walk-ins are welcome. Please register below.
URL:https://acfree.librarycalendar.com/event/safe-program-7117
END:VEVENT
END:VCALENDAR
