BEGIN:VCALENDAR
VERSION:2.0
PRODID:-//Library Market//iCal Export//EN
BEGIN:VEVENT
SUMMARY:SQUONK&#039;s Collaging Joy: All-Ages Art Workshop
UID:7187
DTSTAMP:20260423T082800Z
DTSTART:20260511T210000Z
DTEND:20260511T220000Z
LOCATION:300 Beechwood Avenue, Carnegie, PA 15106, United States
ROOM: Studio
DESCRIPTION:Join us for a playful, imaginative collage workshop inspired
  by the magical world of Squonk! In this hands-on session, we will explore
  how art, imagery, and ideas come together to create something truly uniq
 ue—just like Squonk’s larger-than-life spectacles. Squonk&#039;s new 
 show, &quot;Joy Machine,&quot; encourages audiences to participate and c
 reate art with us on stage. This workshop encourages you to follow your cu
 riosity, letting your creativity lead the way as we create collages ref
 lecting your dreams, silly ideas and what brings you JOY! Just like Squon
 k, we&#039;ll create art together in a community with imagination and ce
 lebrating what makes each of us unique. Come ready to create, explore, and
  put your identity on the page! This event is completely free and open to
  all ages.
URL:https://acfree.librarycalendar.com/event/squonk-collaging-joy
END:VEVENT
END:VCALENDAR
