BEGIN:VCALENDAR
VERSION:2.0
PRODID:-//Library Market//iCal Export//EN
BEGIN:VEVENT
SUMMARY:Meditate Together - *SPECIAL MAKE-UP SESSION*
UID:7219
DTSTAMP:20260419T145800Z
DTSTART:20260330T161500Z
DTEND:20260330T171500Z
LOCATION:300 Beechwood Avenue, Carnegie, PA 15106, United States
ROOM: Mezzanine
DESCRIPTION:Please note: this is a special make-up session of Meditate Tog
 ether. In April, the program will return to its regular schedule of meetin
 g on the first and third Mondays of the month.Come still the waters of you
 r mind in a supportive, friendly group through mindful meditation! Regular
  meditation has been shown to reduce stress and anxiety, and to enhance fo
 cus and wellbeing.This group meets in the Mezzanine on the first and third
  Mondays of each month, from 12:15-1:15 PM. This group is intended for adu
 lts, but anyone who can participate is welcome. Registration is not requir
 ed - just drop in!
URL:https://acfree.librarycalendar.com/event/meditate-together-special-mak
 e-session-7219
END:VEVENT
END:VCALENDAR
