BEGIN:VCALENDAR
VERSION:2.0
PRODID:-//Library Market//iCal Export//EN
BEGIN:VEVENT
SUMMARY:Kitchen Dancing: Freeform movement for adults 50+
UID:7297
DTSTAMP:20260423T173800Z
DTSTART:20260512T213000Z
DTEND:20260512T230000Z
LOCATION:300 Beechwood Avenue, Carnegie, PA 15106, United States
ROOM: Studio
DESCRIPTION:If you dance around the kitchen while cooking, this program is
  for you!Come and get moving to an eclectic mix of music in a safe, non-ju
 dgmental space. In this self-paced, free-form dance class for 50s+, we kee
 p fit while having fun! Express yourself, find your inner rhythm, and reme
 mber that there’s no wrong way to dance!Registration is appreciated, but
  walk-ins are welcome. Please register below.
URL:https://acfree.librarycalendar.com/event/dancing-7297
END:VEVENT
END:VCALENDAR
