BEGIN:VCALENDAR
VERSION:2.0
PRODID:-//Library Market//iCal Export//EN
BEGIN:VEVENT
SUMMARY:Delineating Democracy: All About Gerrymandering, with Fair Distric
 ts PA
UID:7417
DTSTAMP:20260422T050200Z
DTSTART:20260520T230000Z
DTEND:20260521T003000Z
LOCATION:300 Beechwood Avenue, Carnegie, PA 15106, United States
ROOM: Lincoln Gallery
DESCRIPTION:The Andrew Carnegie Free Library &amp; Music Hall presents a p
 ublic education program on reforming Pennsylvania’s redistricting proces
 s. Fair Districts PA speakers Kate Ellison and Sarah Stulga will explain P
 A’s current redistricting process, demonstrate how it has undermined dem
 ocracy, and then offer a solution to the problem. Kate and Sarah will also
  discuss legislation, roadblocks in Harrisburg and Fair Districts PA’s s
 trategy going forward. Ideas for how individuals and organizations can adv
 ocate for change will be shared.Fair Districts PA is a non-partisan coalit
 ion of citizens and organizations seeking to reform PA redistricting rules
  by ensuring that the process is impartial, transparent, and accountable.R
 egistration is appreciated, but walk-ins are welcome. Please register belo
 w.
URL:https://acfree.librarycalendar.com/event/fair-districts-pa-7417
END:VEVENT
END:VCALENDAR
